BEGIN:VCALENDAR
VERSION:2.0
PRODID:-//Bonkers - ECPv6.15.17.1//NONSGML v1.0//EN
CALSCALE:GREGORIAN
METHOD:PUBLISH
X-WR-CALNAME:Bonkers
X-ORIGINAL-URL:https://goingbonkers.com
X-WR-CALDESC:Events for Bonkers
REFRESH-INTERVAL;VALUE=DURATION:PT1H
X-Robots-Tag:noindex
X-PUBLISHED-TTL:PT1H
BEGIN:VTIMEZONE
TZID:America/New_York
BEGIN:DAYLIGHT
TZOFFSETFROM:-0500
TZOFFSETTO:-0400
TZNAME:EDT
DTSTART:20250309T070000
END:DAYLIGHT
BEGIN:STANDARD
TZOFFSETFROM:-0400
TZOFFSETTO:-0500
TZNAME:EST
DTSTART:20251102T060000
END:STANDARD
BEGIN:DAYLIGHT
TZOFFSETFROM:-0500
TZOFFSETTO:-0400
TZNAME:EDT
DTSTART:20260308T070000
END:DAYLIGHT
BEGIN:STANDARD
TZOFFSETFROM:-0400
TZOFFSETTO:-0500
TZNAME:EST
DTSTART:20261101T060000
END:STANDARD
BEGIN:DAYLIGHT
TZOFFSETFROM:-0500
TZOFFSETTO:-0400
TZNAME:EDT
DTSTART:20270314T070000
END:DAYLIGHT
BEGIN:STANDARD
TZOFFSETFROM:-0400
TZOFFSETTO:-0500
TZNAME:EST
DTSTART:20271107T060000
END:STANDARD
END:VTIMEZONE
BEGIN:VEVENT
DTSTART;VALUE=DATE:20260430
DTEND;VALUE=DATE:20260501
DTSTAMP:20260420T002220
CREATED:20260306T181653Z
LAST-MODIFIED:20260309T181845Z
UID:10003402-1777507200-1777593599@goingbonkers.com
SUMMARY:Thursday Special: We MATCH your Spend!
DESCRIPTION:We MATCH your Spend on any purchase from $20 – $75!!\n Whatever you buy\, we DOUBLE it\, up to $75! BOGO Arcade Game Play\, every Thursday at BONKERS.\nReserve at Columbia: https://bonkerscolumbia.resova.us/items/view/16\nReserve at Topeka: https://bonkerstopeka.resova.us/items/view/16 \nNOTE: Purchase required\, minimum $20 & maximum $75 redemption value. Offer subject to change. Excludes Package offers.
URL:https://goingbonkers.com/event/thursday-special-we-match-your-spend/2026-04-30/
LOCATION:Bonkers Columbia\, 3812 Buttonwood Dr\, Columbia\, MO\, 65201\, United States
CATEGORIES:Daily Specials
ATTACH;FMTTYPE=image/webp:https://goingbonkers.com/wp-content/uploads/2026/03/842339147-26-feg-bonkers-all-loctions-daily-specials-thurs_match-spend-75-1920x1080_v030526.webp
END:VEVENT
END:VCALENDAR