BEGIN:VCALENDAR
VERSION:2.0
PRODID:-//Bonkers - ECPv6.15.17.1//NONSGML v1.0//EN
CALSCALE:GREGORIAN
METHOD:PUBLISH
X-WR-CALNAME:Bonkers
X-ORIGINAL-URL:https://goingbonkers.com
X-WR-CALDESC:Events for Bonkers
REFRESH-INTERVAL;VALUE=DURATION:PT1H
X-Robots-Tag:noindex
X-PUBLISHED-TTL:PT1H
BEGIN:VTIMEZONE
TZID:America/New_York
BEGIN:DAYLIGHT
TZOFFSETFROM:-0500
TZOFFSETTO:-0400
TZNAME:EDT
DTSTART:20250309T070000
END:DAYLIGHT
BEGIN:STANDARD
TZOFFSETFROM:-0400
TZOFFSETTO:-0500
TZNAME:EST
DTSTART:20251102T060000
END:STANDARD
BEGIN:DAYLIGHT
TZOFFSETFROM:-0500
TZOFFSETTO:-0400
TZNAME:EDT
DTSTART:20260308T070000
END:DAYLIGHT
BEGIN:STANDARD
TZOFFSETFROM:-0400
TZOFFSETTO:-0500
TZNAME:EST
DTSTART:20261101T060000
END:STANDARD
BEGIN:DAYLIGHT
TZOFFSETFROM:-0500
TZOFFSETTO:-0400
TZNAME:EDT
DTSTART:20270314T070000
END:DAYLIGHT
BEGIN:STANDARD
TZOFFSETFROM:-0400
TZOFFSETTO:-0500
TZNAME:EST
DTSTART:20271107T060000
END:STANDARD
END:VTIMEZONE
BEGIN:VEVENT
DTSTART;VALUE=DATE:20260501
DTEND;VALUE=DATE:20260502
DTSTAMP:20260421T150013
CREATED:20260306T181937Z
LAST-MODIFIED:20260306T182015Z
UID:10003502-1777593600-1777679999@goingbonkers.com
SUMMARY:Friday Special: Happier Hours
DESCRIPTION:Half Price select Apps every Friday from 5 – 8pm! Appetizers vary by location\, ask your server for details!
URL:https://goingbonkers.com/event/friday-special-happier-hours/2026-05-01/
LOCATION:Bonkers Columbia\, 3812 Buttonwood Dr\, Columbia\, MO\, 65201\, United States
CATEGORIES:Daily Specials
ATTACH;FMTTYPE=image/webp:https://goingbonkers.com/wp-content/uploads/2026/03/842339132-26-feg-bonkers-all-loctions-daily-specials-fri_happy-hour-1920x1080_v030526.webp
END:VEVENT
END:VCALENDAR